BEGIN:VCALENDAR
VERSION:2.0
PRODID:-//Metavivor - ECPv6.15.12.2//NONSGML v1.0//EN
CALSCALE:GREGORIAN
METHOD:PUBLISH
X-ORIGINAL-URL:https://metavivor.org
X-WR-CALDESC:Events for Metavivor
REFRESH-INTERVAL;VALUE=DURATION:PT1H
X-Robots-Tag:noindex
X-PUBLISHED-TTL:PT1H
BEGIN:VTIMEZONE
TZID:UTC
BEGIN:STANDARD
TZOFFSETFROM:+0000
TZOFFSETTO:+0000
TZNAME:UTC
DTSTART:20250101T000000
END:STANDARD
END:VTIMEZONE
BEGIN:VTIMEZONE
TZID:America/New_York
BEGIN:DAYLIGHT
TZOFFSETFROM:-0500
TZOFFSETTO:-0400
TZNAME:EDT
DTSTART:20250309T070000
END:DAYLIGHT
BEGIN:STANDARD
TZOFFSETFROM:-0400
TZOFFSETTO:-0500
TZNAME:EST
DTSTART:20251102T060000
END:STANDARD
BEGIN:DAYLIGHT
TZOFFSETFROM:-0500
TZOFFSETTO:-0400
TZNAME:EDT
DTSTART:20260308T070000
END:DAYLIGHT
BEGIN:STANDARD
TZOFFSETFROM:-0400
TZOFFSETTO:-0500
TZNAME:EST
DTSTART:20261101T060000
END:STANDARD
BEGIN:DAYLIGHT
TZOFFSETFROM:-0500
TZOFFSETTO:-0400
TZNAME:EDT
DTSTART:20270314T070000
END:DAYLIGHT
BEGIN:STANDARD
TZOFFSETFROM:-0400
TZOFFSETTO:-0500
TZNAME:EST
DTSTART:20271107T060000
END:STANDARD
END:VTIMEZONE
BEGIN:VEVENT
DTSTART;VALUE=DATE:20260223
DTEND;VALUE=DATE:20260307
DTSTAMP:20260425T065501
CREATED:20250325T224113Z
LAST-MODIFIED:20251114T164258Z
UID:10000003-1771804800-1772841599@metavivor.org
SUMMARY:Groundswell
DESCRIPTION:Virtual Event  \nJoin fellow advocates in directly engaging with lawmakers in Washington D.C. to educate them about the MBC patient experience\, the policies METAvivor seeks to change\, and the crucial need for federally funded research on MBC. Schedule advocacy meetings with your own US Representative\, and attend meetings scheduled by a State Captain with your state’s two Senators. Registered participants receive training and support from METAvivor for impactful virtual meetings. \nLook for registration to open soon! If you haven’t already\, sign up for METAvivor emails to get event updates delivered directly to your inbox.
URL:https://metavivor.org/event/groundswell/
LOCATION:Virtual
CATEGORIES:Advocacy
ATTACH;FMTTYPE=image/jpeg:https://metavivor.org/wp-content/uploads/2025/05/groundswell.jpg
END:VEVENT
BEGIN:VEVENT
DTSTART;TZID=America/New_York:20260303T120000
DTEND;TZID=America/New_York:20260303T130000
DTSTAMP:20260425T065501
CREATED:20251023T175203Z
LAST-MODIFIED:20251023T175203Z
UID:10000024-1772539200-1772542800@metavivor.org
SUMMARY:Peer2Peer Support Group Leader Training
DESCRIPTION:Join us for an online training about how to set up\, run and maintain an MBC support group in your community. Once this training is completed\, you will receive access to a private Facebook group for leaders and materials to help launch your own local METAvivor Peer to Peer Support Group. \nThis training is open to people living with metastatic breast cancer. To join\, please complete a brief application to become a Peer-to-Peer Support Group Leader. You will be prompted to select your preferred training date.
URL:https://metavivor.org/event/peer2peer-support-group-leader-training-6/
LOCATION:Zoom
CATEGORIES:P2P Training
ATTACH;FMTTYPE=image/jpeg:https://metavivor.org/wp-content/uploads/2025/06/p2p-training.jpg
END:VEVENT
END:VCALENDAR